BEGIN:VCALENDAR
VERSION:2.0
PRODID:-//Holy Hill Chapel Worldwide - ECPv6.15.16//NONSGML v1.0//EN
CALSCALE:GREGORIAN
METHOD:PUBLISH
X-WR-CALNAME:Holy Hill Chapel Worldwide
X-ORIGINAL-URL:https://holyhillchapelworldwide.org
X-WR-CALDESC:Events for Holy Hill Chapel Worldwide
REFRESH-INTERVAL;VALUE=DURATION:PT1H
X-Robots-Tag:noindex
X-PUBLISHED-TTL:PT1H
BEGIN:VTIMEZONE
TZID:UTC
BEGIN:STANDARD
TZOFFSETFROM:+0000
TZOFFSETTO:+0000
TZNAME:UTC
DTSTART:20240101T000000
END:STANDARD
END:VTIMEZONE
BEGIN:VEVENT
DTSTART;TZID=UTC:20260220T180000
DTEND;TZID=UTC:20260220T213000
DTSTAMP:20260420T225601
CREATED:20260220T175111Z
LAST-MODIFIED:20260220T181311Z
UID:6788-1771610400-1771623000@holyhillchapelworldwide.org
SUMMARY:Prophetic & Miracle Service
DESCRIPTION:Holy Hill Chapel Worldwide warmly invites the general public to a prophetic and miracle service \nJoin us on 20th February 2026 at Holy Hill Chapel\, Adjacent to Avnash Rice Factory on the Nyankpala Road\, for a powerful time of prophetic insight\, worship\, and divine impartation. \n🌇 Evening Session: 6:00 PM – 09:30 PM \nHost: Prophet Godwin Sarfo Annan\nGuest Ministers: Prophet Joseph Yakubu \nCome expecting an encounter with God that will shift your destiny\, ignite your faith\, and renew your purpose. Don’t miss this prophetic move — God is saying something\, and it concerns you! \nFor more information\, contact:\n📞 +233 (0) 24 059 5785 / +44 7535 843755
URL:https://holyhillchapelworldwide.org/event/prophetic-miracle-service/
LOCATION:HolyHillChapel\, Cornerstone Cathedral\, Nyankpala\, Ghana
CATEGORIES:HolyHillChapelEvents
ATTACH;FMTTYPE=image/jpeg:https://holyhillchapelworldwide.org/wp-content/uploads/2026/02/639971332_25768611079426223_3766287390072978738_n.jpg
END:VEVENT
BEGIN:VEVENT
DTSTART;TZID=UTC:20251029T090000
DTEND;TZID=UTC:20251031T210000
DTSTAMP:20260420T225601
CREATED:20251031T014751Z
LAST-MODIFIED:20251031T014751Z
UID:6236-1761728400-1761944400@holyhillchapelworldwide.org
SUMMARY:Global Prophetic Gathering
DESCRIPTION:Holy Hill Chapel Worldwide warmly invites the general public to a life-transforming event — the Global Prophetic Gathering 2025 under the divine theme: “God Is Saying Something.” \nJoin us from 29th to 31st October 2025 at Holy Hill Chapel\, Adjacent to Avnash Rice Factory on the Nyankpala Road\, for a powerful time of prophetic insight\, worship\, and divine impartation. \n🕘 Morning Session: 9:00 AM – 12:00 NOON\n🌇 Evening Session: 6:00 PM – 9:00 PM \nHost: Prophet Godwin Sarfo Annan\nGuest Ministers: Prophet Philip Owusu Nyarko\, Prophet David Rauf\, Prince David & Gyewoman \nCome expecting an encounter with God that will shift your destiny\, ignite your faith\, and renew your purpose. Don’t miss this prophetic move — God is saying something\, and it concerns you! \nFor more information\, contact:\n📞 +233 (0) 24 059 5785 / +44 7535 843755
URL:https://holyhillchapelworldwide.org/event/global-prophetic-gathering/
CATEGORIES:HolyHillChapelEvents
ATTACH;FMTTYPE=image/jpeg:https://holyhillchapelworldwide.org/wp-content/uploads/2025/10/570033752_833160092714995_8015580090418220061_n.jpg
END:VEVENT
BEGIN:VEVENT
DTSTART;TZID=UTC:20250620T210000
DTEND;TZID=UTC:20250620T210000
DTSTAMP:20260420T225601
CREATED:20251031T015803Z
LAST-MODIFIED:20251031T015926Z
UID:6245-1750453200-1750453200@holyhillchapelworldwide.org
SUMMARY:Mid-year Prophetic & Prayer All-night
DESCRIPTION:Greater Glory to our Lord and Savior Jesus Christ. Beloved\, join us for the Mid-year Prophetic & Prayer All-night and be blessed.
URL:https://holyhillchapelworldwide.org/event/mid-year-prophetic-prayer-all-night/
CATEGORIES:HolyHillChapelEvents
ATTACH;FMTTYPE=image/jpeg:https://holyhillchapelworldwide.org/wp-content/uploads/2025/10/509435749_733061912724814_8562248935576624357_n.jpg
END:VEVENT
END:VCALENDAR